BEGIN:VCALENDAR
PRODID:-//AT Content Types//AT Event//EN
VERSION:2.0
METHOD:PUBLISH
BEGIN:VEVENT
DTSTAMP:20260419T133318Z
CREATED:20201119T213432Z
UID:ATEvent-4db4d24a9d604cd2a6a8022a213ff480
LAST-MODIFIED:20201120T140138Z
SUMMARY:21 NOVEMBRE - La Società della Cura occupa le piazze
DTSTART:20201121T100000Z
DTEND:20201121T170000Z
DESCRIPTION:Il 21 Novembre la Società della Cura occupa le piazze\, r
 eali e virtuali:\ncentinaia di organizzazioni\, movimenti sociali\, as
 sociazioni e singole\npersone assieme per chiedere un cambio radicale 
 verso una società più\ngiusta\, rispettosa dei diritti di tutte e tu
 tti\, ecologica e solidale.\nPartecipa\, diffondi\, e unisciti alle az
 ioni in presenza e online
LOCATION:https://societadellacura.blogspot.com/2020/11/le-prime-piazze-del-21-novembre.html
CLASS:PUBLIC
END:VEVENT
END:VCALENDAR
