BEGIN:VCALENDAR
PRODID:-//AT Content Types//AT Event//EN
VERSION:2.0
METHOD:PUBLISH
BEGIN:VEVENT
DTSTAMP:20260419T164732Z
CREATED:20220915T161732Z
UID:ATEvent-2abfcaaeb6174ce7b380f8cb0331ac7a
LAST-MODIFIED:20220915T161751Z
SUMMARY:23 SETTEMBRE: SCIOPERO GLOBALE PER IL CLIMA
DTSTART:20220923T070000Z
DTEND:20220923T100000Z
LOCATION:Cerca sul nostro sito la piazza più vicina a te!
CLASS:PUBLIC
END:VEVENT
END:VCALENDAR
