BEGIN:VCALENDAR
PRODID:-//AT Content Types//AT Event//EN
VERSION:1.0
BEGIN:VEVENT
DTSTART:20230909T184500Z
DTEND:20230909T210000Z
DCREATED:20230826T082521Z
UID:ATEvent-f25e24a089324b8283a1f2bf22cd2abb
SEQUENCE:0
LAST-MODIFIED:20230826T082951Z
SUMMARY:30° MARCIA PER LA GIUSTIZIA a Quarrata (Pistoia)
LOCATION:Piazza Risorgimento a Quarrata (PT)
PRIORITY:3
TRANSP:0
END:VEVENT
END:VCALENDAR
