BEGIN:VCALENDAR
PRODID:-//AT Content Types//AT Event//EN
VERSION:2.0
METHOD:PUBLISH
BEGIN:VEVENT
DTSTAMP:20260419T133046Z
CREATED:20250309T170852Z
UID:ATEvent-eaae5bdd4ba74a228fd723daabcf6292
LAST-MODIFIED:20250309T170910Z
SUMMARY:Acireale - Presentazione libro "Adolescenti interrealtà e cyberdevianza
DTSTART:20250313T160000Z
DTEND:20250313T180000Z
LOCATION:Centro culturale Prof.ssa Pinella Musumeci - Villa Belvedere - Acireale
CLASS:PUBLIC
END:VEVENT
END:VCALENDAR
