BEGIN:VCALENDAR
PRODID:-//AT Content Types//AT Event//EN
VERSION:2.0
METHOD:PUBLISH
BEGIN:VEVENT
DTSTAMP:20260419T165013Z
CREATED:20241127T210451Z
UID:ATEvent-174f1d3279304416a7a4d8357bc404f3
LAST-MODIFIED:20241127T210506Z
SUMMARY:Albinia(Gr) - Presentazione libro di Pancho Pardi
DTSTART:20241207T170000Z
DTEND:20241207T181500Z
LOCATION:Antica Fattoria La Parrina - Strada vicinale della Parrina - Albinia(Gr)
CLASS:PUBLIC
END:VEVENT
END:VCALENDAR
