BEGIN:VCALENDAR
PRODID:-//AT Content Types//AT Event//EN
VERSION:2.0
METHOD:PUBLISH
BEGIN:VEVENT
DTSTAMP:20260419T165210Z
CREATED:20240616T101001Z
UID:ATEvent-c9939b5b0f5a47309bcbd59a25500e22
LAST-MODIFIED:20240616T101007Z
SUMMARY:ARCORE - Incontro informativo "Il Prmierato Meloni e la nostra Costituzione"
DTSTART:20240621T184500Z
DTEND:20240621T203000Z
LOCATION:ARCI BLOB Via Alfonso Casati 31 - Arcore
CLASS:PUBLIC
END:VEVENT
END:VCALENDAR
