BEGIN:VCALENDAR
PRODID:-//AT Content Types//AT Event//EN
VERSION:1.0
BEGIN:VEVENT
DTSTART:20260313T160000Z
DTEND:20260313T180000Z
DCREATED:20260312T093900Z
UID:ATEvent-67897b41ee3c47febd78877413e3b919
SEQUENCE:0
LAST-MODIFIED:20260312T094000Z
SUMMARY:ASSEMBLEA NAZIONALE STOP REARM EUROPE - ITALIA  Online
LOCATION:Online
PRIORITY:3
TRANSP:0
END:VEVENT
END:VCALENDAR
