BEGIN:VCALENDAR
PRODID:-//AT Content Types//AT Event//EN
VERSION:1.0
BEGIN:VEVENT
DTSTART:20250404T153000Z
DTEND:20250404T172000Z
DCREATED:20250326T140246Z
UID:ATEvent-f3205138d2034bbe94ca33cbd3cab1cb
SEQUENCE:0
LAST-MODIFIED:20250326T140302Z
SUMMARY:Assemblea pubblica online con il Prof Giorgio Parisi
LOCATION:Piattaforma zoom
PRIORITY:3
TRANSP:0
END:VEVENT
END:VCALENDAR
