BEGIN:VCALENDAR
PRODID:-//AT Content Types//AT Event//EN
VERSION:2.0
METHOD:PUBLISH
BEGIN:VEVENT
DTSTAMP:20260419T133424Z
CREATED:20230428T202826Z
UID:ATEvent-89bce1da89bc40c7a6d44b48a519e1e8
LAST-MODIFIED:20230428T203252Z
SUMMARY:Autonomia differenziata\, la maratona di 21 ore su Facebook contro la riforma di Calderoli
DTSTART:20230428T215500Z
DTEND:20230429T190000Z
DESCRIPTION:Dalla mezzanotte di oggi\, venerdÃ¬ 28 aprile\, parte la â
 €˜Maratona Sudâ€™\, una diretta Facebook di 21 ore\, durante la quale 
 si avvicenderanno diversi ospiti\, tra cui il costituzionalista Massim
 o Villone e Sandro Ruotolo\, membro della segreteria Pd.
LOCATION:diretta Facebook
CLASS:PUBLIC
END:VEVENT
END:VCALENDAR
