BEGIN:VCALENDAR
PRODID:-//AT Content Types//AT Event//EN
VERSION:1.0
BEGIN:VEVENT
DTSTART:20190726T160000Z
DTEND:20190726T215500Z
DCREATED:20190710T142345Z
UID:ATEvent-56439838db6b4e6e96aa968dbb6305d8
SEQUENCE:0
LAST-MODIFIED:20190710T144006Z
SUMMARY:BENI COMUNI FIRMA DAY  - Venerdì 26 luglio 2019 - in tutto il Paese
LOCATION:Tutta Italia
PRIORITY:3
TRANSP:0
END:VEVENT
END:VCALENDAR
