BEGIN:VCALENDAR
PRODID:-//AT Content Types//AT Event//EN
VERSION:2.0
METHOD:PUBLISH
BEGIN:VEVENT
DTSTAMP:20260419T165026Z
CREATED:20250226T203617Z
UID:ATEvent-65d9d26ce1ed441db4d31baa3c7a127d
LAST-MODIFIED:20250226T203722Z
SUMMARY:Bologna - Incontro pubblico a sostegno dei Referendum lavoro e cittadinanza
DTSTART:20250306T143000Z
DTEND:20250306T163000Z
LOCATION:Sala Fanti Regione Emilia Romagna Via Aldo Moro - Bologna
CLASS:PUBLIC
END:VEVENT
END:VCALENDAR
