BEGIN:VCALENDAR
PRODID:-//AT Content Types//AT Event//EN
VERSION:2.0
METHOD:PUBLISH
BEGIN:VEVENT
DTSTAMP:20260419T165013Z
CREATED:20230215T112547Z
UID:ATEvent-dcf1724d4ea24db989c680392e24cffa
LAST-MODIFIED:20230215T113349Z
SUMMARY:Bologna - La Pace è la vittoria di cui abbiamo bisogno
DTSTART:20230224T170000Z
DTEND:20230224T213000Z
LOCATION:Piazza XX settembre - Bologna
CLASS:PUBLIC
END:VEVENT
END:VCALENDAR
