BEGIN:VCALENDAR
PRODID:-//AT Content Types//AT Event//EN
VERSION:1.0
BEGIN:VEVENT
DTSTART:20220628T160000Z
DTEND:20220629T210000Z
DCREATED:20220615T140254Z
UID:ATEvent-50334724357b4c36bd1149b98c43833a
SEQUENCE:0
LAST-MODIFIED:20220615T141226Z
SUMMARY:Bologna - Manifesta 2022 28 e 29 giugno
LOCATION:Centro G. Costa  - Via Azzo Gardino 48 - Bologna
PRIORITY:3
TRANSP:0
END:VEVENT
END:VCALENDAR
