BEGIN:VCALENDAR
PRODID:-//AT Content Types//AT Event//EN
VERSION:1.0
BEGIN:VEVENT
DTSTART:20240126T143000Z
DTEND:20240126T170000Z
DCREATED:20240121T144515Z
UID:ATEvent-e4292ea398cc46fda1e7155bf0c95e4b
SEQUENCE:0
LAST-MODIFIED:20240121T144528Z
SUMMARY:Bologna - Premierato\, stato della democrazia e diseguaglianze
LOCATION:Sala CGIL G.Di Vittorio Corso Marconi 67 Bologna
PRIORITY:3
TRANSP:0
END:VEVENT
END:VCALENDAR
