BEGIN:VCALENDAR
PRODID:-//AT Content Types//AT Event//EN
VERSION:2.0
METHOD:PUBLISH
BEGIN:VEVENT
DTSTAMP:20260419T165457Z
CREATED:20241005T130404Z
UID:ATEvent-2748e5f415e14643873674839cc1a911
LAST-MODIFIED:20241005T135046Z
SUMMARY:Bologna-Presentazione "Il Parlamento contro la Costituzione". Come viene sfigurata la Carta
DTSTART:20241010T160000Z
DTEND:20241010T180000Z
LOCATION:Libreria Punto Input in via Mascarella 104/A 38\, Bologna
CONTACT:Sergio Caserta
CLASS:PUBLIC
END:VEVENT
END:VCALENDAR
