BEGIN:VCALENDAR
PRODID:-//AT Content Types//AT Event//EN
VERSION:2.0
METHOD:PUBLISH
BEGIN:VEVENT
DTSTAMP:20260419T165329Z
CREATED:20250408T134041Z
UID:ATEvent-492eb04dafa446fba526c6f2e07affbf
LAST-MODIFIED:20250408T134101Z
SUMMARY:Cagliari - Dialoghi di archeologia architettura arte e paesaggio
DTSTART:20250410T160000Z
DTEND:20250410T180000Z
LOCATION:Basilica di San Saturnino Piazza San Cosimo - Cagliari
CLASS:PUBLIC
END:VEVENT
END:VCALENDAR
