BEGIN:VCALENDAR
PRODID:-//AT Content Types//AT Event//EN
VERSION:2.0
METHOD:PUBLISH
BEGIN:VEVENT
DTSTAMP:20260419T165210Z
CREATED:20220523T211449Z
UID:ATEvent-e3b9729e7f4442faa4bb09625aa99f40
LAST-MODIFIED:20220523T211500Z
SUMMARY:Cagliari - Dialoghi di archeologia architettura arte e paesaggio
DTSTART:20220526T160000Z
DTEND:20220526T173000Z
LOCATION:Basilica di San Saturnino Piazza S. Cosimo\, Cagliari
CLASS:PUBLIC
END:VEVENT
END:VCALENDAR
