BEGIN:VCALENDAR
PRODID:-//AT Content Types//AT Event//EN
VERSION:1.0
BEGIN:VEVENT
DTSTART:20250606T160000Z
DTEND:20250606T173000Z
DCREATED:20250602T072450Z
UID:ATEvent-c6689e6eb4c546efbe320ef5070da334
SEQUENCE:0
LAST-MODIFIED:20250604T075318Z
SUMMARY:Cagliari - Presentazione del volume di SALVATORE DEIANA
LOCATION:Teatro Sant'Eulalia - Cagliari
PRIORITY:3
TRANSP:0
END:VEVENT
END:VCALENDAR
