BEGIN:VCALENDAR
PRODID:-//AT Content Types//AT Event//EN
VERSION:2.0
METHOD:PUBLISH
BEGIN:VEVENT
DTSTAMP:20260419T164932Z
CREATED:20250922T120130Z
UID:ATEvent-cf02524ffe2546c7896891b8dfa057b0
LAST-MODIFIED:20250922T120136Z
SUMMARY:Canegrate - Incontro contro il baratro nucleare
DTSTART:20251004T184500Z
DTEND:20251004T203000Z
LOCATION:Polo culturale Catarabia - Piazza Unità D'Italia 2 - Canegrate
CLASS:PUBLIC
END:VEVENT
END:VCALENDAR
