BEGIN:VCALENDAR
PRODID:-//AT Content Types//AT Event//EN
VERSION:1.0
BEGIN:VEVENT
DTSTART:20251022T140000Z
DTEND:20251022T160000Z
DCREATED:20251018T202609Z
UID:ATEvent-c610abf0cd724383a899b1217a3ef4cd
SEQUENCE:0
LAST-MODIFIED:20251018T202618Z
SUMMARY:Casale Monferrato - Conferenza ARMI NUCLEARI E SICUREZZA UMANA
LOCATION:Liceo Balbo-Palli (via Galeotto del Carretto) - Casale Monferrato
PRIORITY:3
TRANSP:0
END:VEVENT
END:VCALENDAR
