BEGIN:VCALENDAR
PRODID:-//AT Content Types//AT Event//EN
VERSION:2.0
METHOD:PUBLISH
BEGIN:VEVENT
DTSTAMP:20260419T165117Z
CREATED:20230102T124607Z
UID:ATEvent-12b29daed15d482c9056db5155188e32
LAST-MODIFIED:20230102T125748Z
SUMMARY:Catania - Cinque gennaio 2023 / I colori della libertà
DTSTART:20230105T090000Z
DTEND:20230105T190000Z
LOCATION:Giardino di Scidà (bene confiscato\, via Randazzo 27 - Catania
CLASS:PUBLIC
END:VEVENT
END:VCALENDAR
