BEGIN:VCALENDAR
PRODID:-//AT Content Types//AT Event//EN
VERSION:2.0
METHOD:PUBLISH
BEGIN:VEVENT
DTSTAMP:20260419T133815Z
CREATED:20231215T165424Z
UID:ATEvent-4ea35a386e6243c19066b0dcad9696f1
LAST-MODIFIED:20231215T165732Z
SUMMARY:Catania  - Cinque gennaio  In piazza contro la mafia  al fianco di Giuseppe Fava
DTSTART:20240105T100000Z
DTEND:20240105T170000Z
LOCATION:Giardino di Scidà\, bene confiscato\, via Randazzo 27 - Catania
CLASS:PUBLIC
END:VEVENT
END:VCALENDAR
