BEGIN:VCALENDAR
PRODID:-//AT Content Types//AT Event//EN
VERSION:1.0
BEGIN:VEVENT
DTSTART:20220305T123000Z
DTEND:20220305T160000Z
DCREATED:20220302T205017Z
UID:ATEvent-e1ac27da1c284900b526f360a09b82d0
SEQUENCE:0
LAST-MODIFIED:20220302T205414Z
SUMMARY:Cessate il fuoco. Manifestazione nazionale a Roma il 5 marzo 2022
LOCATION:Piazza san Giovanni in Laterano - Roma
PRIORITY:3
TRANSP:0
END:VEVENT
END:VCALENDAR
