BEGIN:VCALENDAR
PRODID:-//AT Content Types//AT Event//EN
VERSION:2.0
METHOD:PUBLISH
BEGIN:VEVENT
DTSTAMP:20260419T165322Z
CREATED:20191201T170130Z
UID:ATEvent-878192f3a2ca4029ae7dd13620aa839b
LAST-MODIFIED:20191201T170520Z
SUMMARY:Collecchio (Parma) - Icontro con Paola Favero: c'era una volta il bosco
DTSTART:20191205T200000Z
DTEND:20191205T213000Z
DESCRIPTION:E’ una grande donna che difende le nostre foreste!
LOCATION:Casa i Prati - Collecchio(PR)
CLASS:PUBLIC
END:VEVENT
END:VCALENDAR
