BEGIN:VCALENDAR
PRODID:-//AT Content Types//AT Event//EN
VERSION:2.0
METHOD:PUBLISH
BEGIN:VEVENT
DTSTAMP:20260419T165100Z
CREATED:20250327T084707Z
UID:ATEvent-8742bf7ff89143b3add2a77fb559e75d
LAST-MODIFIED:20250327T084711Z
SUMMARY:Comune di Oggiono - I partigiani della pace verso l'ottantesimo della Liberazione
DTSTART:20250412T160000Z
DTEND:20250412T173000Z
LOCATION:Spazio Lettura di Imberido frazione di Oggiono in via Baravico 24/2
CLASS:PUBLIC
END:VEVENT
END:VCALENDAR
