BEGIN:VCALENDAR
PRODID:-//AT Content Types//AT Event//EN
VERSION:2.0
METHOD:PUBLISH
BEGIN:VEVENT
DTSTAMP:20260419T133134Z
CREATED:20200625T200914Z
UID:ATEvent-1d67d8c9d31046e38b74575b8781d892
LAST-MODIFIED:20200625T200957Z
SUMMARY:CONVEGNO IN VIDEOCONFERENZA SUL TEMA DELL’AUTONOMIA DIFFERENZIATA
DTSTART:20200627T080000Z
DTEND:20200627T103000Z
LOCATION:Videoconferenza aperta
CLASS:PUBLIC
END:VEVENT
END:VCALENDAR
