BEGIN:VCALENDAR
PRODID:-//AT Content Types//AT Event//EN
VERSION:2.0
METHOD:PUBLISH
BEGIN:VEVENT
DTSTAMP:20260419T165302Z
CREATED:20240422T095421Z
UID:ATEvent-6732cf48e30f4defbeb74d8650b2c1ce
LAST-MODIFIED:20240422T095521Z
SUMMARY:Diretta facebook - l'Associazione Culturale "HORTUS ANIMAE" presenterà il libro "I Partigiani della pace"
DTSTART:20240424T170000Z
DTEND:20240424T180000Z
CLASS:PUBLIC
END:VEVENT
END:VCALENDAR
