BEGIN:VCALENDAR
PRODID:-//AT Content Types//AT Event//EN
VERSION:2.0
METHOD:PUBLISH
BEGIN:VEVENT
DTSTAMP:20260419T164721Z
CREATED:20220429T071700Z
UID:ATEvent-77c5e07b91c94e31a03393e09573a7ca
LAST-MODIFIED:20220429T072155Z
SUMMARY:Diretta streaming - "Pace proibita"
DTSTART:20220502T190000Z
DTEND:20220502T213000Z
LOCATION:Teatro Ghione di Roma - e una diretta streaming
CLASS:PUBLIC
END:VEVENT
END:VCALENDAR
