BEGIN:VCALENDAR
PRODID:-//AT Content Types//AT Event//EN
VERSION:2.0
METHOD:PUBLISH
BEGIN:VEVENT
DTSTAMP:20260419T164840Z
CREATED:20241119T083212Z
UID:ATEvent-8fc92a81aeff480e9fe032623dd153a7
LAST-MODIFIED:20241119T083303Z
SUMMARY:Faenza - Presentazione libro di Pancho Pardi
DTSTART:20241125T193000Z
DTEND:20241125T210000Z
LOCATION:Museo ddel risorgimento - Salone delle feste - Corso Garibaldi 2 - Faenzae
CLASS:PUBLIC
END:VEVENT
END:VCALENDAR
