BEGIN:VCALENDAR
PRODID:-//AT Content Types//AT Event//EN
VERSION:2.0
METHOD:PUBLISH
BEGIN:VEVENT
DTSTAMP:20260419T165447Z
CREATED:20221015T184938Z
UID:ATEvent-f8343b5faa4d48cfb92c08a822ce9b56
LAST-MODIFIED:20221015T185142Z
SUMMARY:Fermate la guerra: negoziato e Conferenza di Pace subito. Dal 21 al 23 ottobre Europe for Peace in piazza
DTSTART:20221021T070000Z
DTEND:20221023T180000Z
DESCRIPTION:Ritorna la mobilitazione diffusa di Europe For Peace: dal 
 21 al 23 ottobre di nuovo nelle piazze di tutta Italia
LOCATION:Piazze italiane
URL:https://retepacedisarmo.org/2022/fermate-guerra-negoziato-conferenza-di-pace-ottobre-europe-for-peace-piazza/
CLASS:PUBLIC
END:VEVENT
END:VCALENDAR
