BEGIN:VCALENDAR
PRODID:-//AT Content Types//AT Event//EN
VERSION:2.0
METHOD:PUBLISH
BEGIN:VEVENT
DTSTAMP:20260419T164721Z
CREATED:20240414T202616Z
UID:ATEvent-6e73ed9d884e4196b2e38d0f592b917f
LAST-MODIFIED:20240414T202623Z
SUMMARY:Ferno presenta ‘I Partigiani della Pace’
DTSTART:20240419T190000Z
DTEND:20240419T210000Z
LOCATION:Circolo San Martino di Ferno\, provincia di Varese\, in via Mazzini 16,
CLASS:PUBLIC
END:VEVENT
END:VCALENDAR
