BEGIN:VCALENDAR
PRODID:-//AT Content Types//AT Event//EN
VERSION:1.0
BEGIN:VEVENT
DTSTART:20230916T140000Z
DTEND:20230916T163000Z
DCREATED:20230907T093323Z
UID:ATEvent-0e3606296bee44aca4a26a0a73b0825c
SEQUENCE:0
LAST-MODIFIED:20230907T093352Z
SUMMARY:FESTACLI - Lambrate in Festa 2023
LOCATION:Circolo ACLI Lambrate "Giovanni Bianchi" Via Conte Rosso n 5. - Lambrate Milano
PRIORITY:3
TRANSP:0
END:VEVENT
END:VCALENDAR
