BEGIN:VCALENDAR
PRODID:-//AT Content Types//AT Event//EN
VERSION:2.0
METHOD:PUBLISH
BEGIN:VEVENT
DTSTAMP:20260419T165447Z
CREATED:20200905T124226Z
UID:ATEvent-2b38f6b851c143188f4654528bda5818
LAST-MODIFIED:20200905T124300Z
SUMMARY:Fiesole -  i professori CARLO FUSARO e  PANCHO PARDI porteranno le opposte ragioni sul referendum
DTSTART:20200916T190000Z
DTEND:20200916T210000Z
LOCATION:Circolo La Montanina (via di Montebeni\, 5 - Fiesole)
CLASS:PUBLIC
END:VEVENT
END:VCALENDAR
