BEGIN:VCALENDAR
PRODID:-//AT Content Types//AT Event//EN
VERSION:1.0
BEGIN:VEVENT
DTSTART:20241025T190000Z
DTEND:20241025T203000Z
DCREATED:20241019T085808Z
UID:ATEvent-bac7f57bb63d4137a777815ab29dae14
SEQUENCE:0
LAST-MODIFIED:20241019T090404Z
SUMMARY:Fiesole - Una conversazione tra Pancho Pardi e Ugo De Siervo
LOCATION:Casa del Popolo la Montanina - Via Di Montebeni 5 - Fiesole
PRIORITY:3
TRANSP:0
END:VEVENT
END:VCALENDAR
