BEGIN:VCALENDAR
PRODID:-//AT Content Types//AT Event//EN
VERSION:2.0
METHOD:PUBLISH
BEGIN:VEVENT
DTSTAMP:20260419T165013Z
CREATED:20220313T172148Z
UID:ATEvent-c839f5668561473fab8e3ae190cad9b3
LAST-MODIFIED:20220323T193817Z
SUMMARY:FIRENZE 25-26 MARZO MANIFESTAZIONE NAZIONALE
DTSTART:20220326T133000Z
DTEND:20220326T170000Z
LOCATION:PIAZZA VITTORIO VENETO – LATO PARCO CASCINE - Firenze
CLASS:PUBLIC
END:VEVENT
END:VCALENDAR
