BEGIN:VCALENDAR
PRODID:-//AT Content Types//AT Event//EN
VERSION:1.0
BEGIN:VEVENT
DTSTART:20220705T160000Z
DTEND:20220705T170000Z
DCREATED:20220702T131940Z
UID:ATEvent-e44cba761bf741e2a42aab9e5544d80a
SEQUENCE:0
LAST-MODIFIED:20220702T132024Z
SUMMARY:FIRENZE A FIANCO DEL POPOLO CURDO
LOCATION:consolato della Svezia- Via Bonifacio Lupi\, 14 - Firenze
PRIORITY:3
TRANSP:0
END:VEVENT
END:VCALENDAR
