BEGIN:VCALENDAR
PRODID:-//AT Content Types//AT Event//EN
VERSION:1.0
BEGIN:VEVENT
DTSTART:20240321T140000Z
DTEND:20240321T160000Z
DCREATED:20240319T213351Z
UID:ATEvent-0b432fce5d9d40efa953310e02b04463
SEQUENCE:0
LAST-MODIFIED:20240319T213357Z
SUMMARY:Firenze - Convegno Nazionale EDUCAZIONE e PACE
LOCATION:Fortezza da Basso Main hall C1 - Teatrino Lorenese - Firenze
PRIORITY:3
TRANSP:0
END:VEVENT
END:VCALENDAR
