BEGIN:VCALENDAR
PRODID:-//AT Content Types//AT Event//EN
VERSION:1.0
BEGIN:VEVENT
DTSTART:20240528T190000Z
DTEND:20240528T210000Z
DCREATED:20240526T083418Z
UID:ATEvent-92182c9ebc124329ad3bb7fbc1638506
SEQUENCE:0
LAST-MODIFIED:20240526T083429Z
SUMMARY:Firenze - Incontro pubblico "L'Italia spezzata"
LOCATION:Il Conventino Via Giano Della Bella 20 - Firenze
PRIORITY:3
TRANSP:0
END:VEVENT
END:VCALENDAR
