BEGIN:VCALENDAR
PRODID:-//AT Content Types//AT Event//EN
VERSION:2.0
METHOD:PUBLISH
BEGIN:VEVENT
DTSTAMP:20260419T165303Z
CREATED:20191210T083028Z
UID:ATEvent-f5eaca11fca440b285dfc067bc77dd5b
LAST-MODIFIED:20191210T173434Z
SUMMARY:Firenze - L’anniversario: Piazza Fontana. Raccontare per non dimenticare
DTSTART:20191211T193000Z
DTEND:20191211T213000Z
LOCATION:Cinema Stensen - Viale don Minzoni 25/c - Firenze
URL:https://stensen.org/
CLASS:PUBLIC
END:VEVENT
END:VCALENDAR
