BEGIN:VCALENDAR
PRODID:-//AT Content Types//AT Event//EN
VERSION:2.0
METHOD:PUBLISH
BEGIN:VEVENT
DTSTAMP:20260419T165026Z
CREATED:20240329T232134Z
UID:ATEvent-1da8aef4996d4eaebca87af5d061dfb1
LAST-MODIFIED:20240329T232147Z
SUMMARY:Firenze - Pancho Pardi presenta Una storia Italiana
DTSTART:20240403T153000Z
DTEND:20240403T173000Z
LOCATION:BIBLIOTECA DELLE OBLATE  Via dell'Oriuolo\, 24 - Firenze
CLASS:PUBLIC
END:VEVENT
END:VCALENDAR
