BEGIN:VCALENDAR
PRODID:-//AT Content Types//AT Event//EN
VERSION:2.0
METHOD:PUBLISH
BEGIN:VEVENT
DTSTAMP:20260419T165344Z
CREATED:20241127T212333Z
UID:ATEvent-71dd23bad0fa4d51811067780323c1b3
LAST-MODIFIED:20241127T212340Z
SUMMARY:Forlì - Incontro su "Piazza Fontana 69 l'attacco alla Costituzione"
DTSTART:20241212T163000Z
DTEND:20241212T180000Z
LOCATION:Sala Asyoli -Corso Garibaldi 280 - Forlì
CLASS:PUBLIC
END:VEVENT
END:VCALENDAR
