BEGIN:VCALENDAR
PRODID:-//AT Content Types//AT Event//EN
VERSION:2.0
METHOD:PUBLISH
BEGIN:VEVENT
DTSTAMP:20260419T165117Z
CREATED:20210216T210640Z
UID:ATEvent-d8715d656f7a47248e9bafaf3cf279d8
LAST-MODIFIED:20210217T084954Z
SUMMARY:Genova\, giovedì presidio antifascista davanti al Comune
DTSTART:20210218T140000Z
DTEND:20210218T160000Z
DESCRIPTION:"Il sindaco ritiri votazione che equipara fascisti e comun
 isti"
LOCATION:Via Garibaldi 9 - Genova
CLASS:PUBLIC
END:VEVENT
END:VCALENDAR
