BEGIN:VCALENDAR
PRODID:-//AT Content Types//AT Event//EN
VERSION:1.0
BEGIN:VEVENT
DTSTART:20240404T170000Z
DTEND:20240404T183000Z
DCREATED:20240330T145325Z
UID:ATEvent-4d4c2e66d2d74b53b585dea063142327
SEQUENCE:0
LAST-MODIFIED:20240330T145332Z
SUMMARY:Gioia del Colle ( BA) - VITE. STORIE DI MIGRAZIONE\, DI PAMELA BARBA
LOCATION:Gioia del Colle ( BA) - Piazza XX settembre
PRIORITY:3
TRANSP:0
END:VEVENT
END:VCALENDAR
