BEGIN:VCALENDAR
PRODID:-//AT Content Types//AT Event//EN
VERSION:2.0
METHOD:PUBLISH
BEGIN:VEVENT
DTSTAMP:20260419T165447Z
CREATED:20230612T202455Z
UID:ATEvent-fc2856973fa14993aa21543b60cbd551
LAST-MODIFIED:20230612T202500Z
SUMMARY:Grosseto - Seminario pubblico: le modifiche all'assetto costituzionale tra Autonomia Differenziata e Presidenzialismo
DTSTART:20230616T150000Z
DTEND:20230616T172000Z
LOCATION:Sala Pegaso - Palazzo Aldobrandeschi - Piazza Dante Alighieri 35 - Grosseto
CLASS:PUBLIC
END:VEVENT
END:VCALENDAR
