BEGIN:VCALENDAR
PRODID:-//AT Content Types//AT Event//EN
VERSION:2.0
METHOD:PUBLISH
BEGIN:VEVENT
DTSTAMP:20260419T134200Z
CREATED:20231105T094650Z
UID:ATEvent-974bee2db2fe410fa25a27955cfdac6a
LAST-MODIFIED:20231105T094900Z
SUMMARY:GUERRA MONDIALE A PEZZI .  E PROSPETTIVA DI UN NUOVO ASSETTO MULTIPOLARE  -   percorsi di approfondimento
DTSTART:20231109T170000Z
DTEND:20231205T190000Z
LOCATION:strada privata Borrelli 34\, 70124 BARI (al cancello citofono n. 51)
CLASS:PUBLIC
END:VEVENT
END:VCALENDAR
