BEGIN:VCALENDAR
PRODID:-//AT Content Types//AT Event//EN
VERSION:1.0
BEGIN:VEVENT
DTSTART:20241128T193000Z
DTEND:20241128T210000Z
DCREATED:20241115T170901Z
UID:ATEvent-587e236efc7c41fba20a724bdedb8c32
SEQUENCE:0
LAST-MODIFIED:20241115T170930Z
SUMMARY:In diretta Facebook - con le associazioni ARGONAUTI PER LA PACE e MONDO SENZA GUERRE E SENZA VIOLENZA.
LOCATION:In diretta Facebook
PRIORITY:3
TRANSP:0
END:VEVENT
END:VCALENDAR
