BEGIN:VCALENDAR
PRODID:-//AT Content Types//AT Event//EN
VERSION:1.0
BEGIN:VEVENT
DTSTART:20220614T153000Z
DTEND:20220614T180000Z
DCREATED:20220609T134306Z
UID:ATEvent-5ff3adae2e044afbbd4726b8d4a19ab1
SEQUENCE:0
LAST-MODIFIED:20220609T134332Z
SUMMARY:Incontro on line - SI all’autonomia che unisce\, NO all’autonomia che divide
LOCATION:Incontro on line
PRIORITY:3
TRANSP:0
END:VEVENT
END:VCALENDAR
