BEGIN:VCALENDAR
PRODID:-//AT Content Types//AT Event//EN
VERSION:2.0
METHOD:PUBLISH
BEGIN:VEVENT
DTSTAMP:20260419T164910Z
CREATED:20210912T162047Z
UID:ATEvent-8c8ad5b3b85c4292a2ece33079ade9a3
LAST-MODIFIED:20210916T081825Z
SUMMARY:#Insorgiamo - Corteo nazionale a Firenze
DTSTART:20210918T130000Z
DTEND:20210918T160000Z
LOCATION:Firenze\, Fortezza da Basso
CLASS:PUBLIC
END:VEVENT
END:VCALENDAR
