BEGIN:VCALENDAR
PRODID:-//AT Content Types//AT Event//EN
VERSION:1.0
BEGIN:VEVENT
DTSTART:20200615T160000Z
DTEND:20200615T180000Z
DCREATED:20200609T130143Z
UID:ATEvent-e503869d319f448292a359e0d178d270
SEQUENCE:0
LAST-MODIFIED:20200609T133728Z
SUMMARY:Assemblea aperta in teleconferenza: "SANITA' E COSTITUZIONE: LA LEZIONE DEL COVID-19"
LOCATION:Piattaforma GoToMeeting
PRIORITY:3
TRANSP:0
END:VEVENT
END:VCALENDAR
