BEGIN:VCALENDAR
PRODID:-//AT Content Types//AT Event//EN
VERSION:1.0
BEGIN:VEVENT
DTSTART:20221125T170000Z
DTEND:20221125T183000Z
DCREATED:20221119T101158Z
UID:ATEvent-9cfa2c841f394f51acece8aa38d8181d
SEQUENCE:0
LAST-MODIFIED:20221119T101302Z
SUMMARY:Videoconferenza sul tema: "ENERGIA E TRANSIZIONE ECOLOGICA"
LOCATION:Internet
PRIORITY:3
TRANSP:0
END:VEVENT
END:VCALENDAR
